BEGIN:VCALENDAR
VERSION:2.0
PRODID:-//selectedinterventions/echocal//NONSGML v1.0//EN
BEGIN:VEVENT
UID:b930fce705365320980cf958c8789bf7
DTSTART:20260423T000000
DTEND:20260424T000000
TRANSP:TRANSPARENT
X-MICROSOFT-CDO-BUSYSTATUS:FREE
RRULE:FREQ=WEEKLY;INTERVAL=2;COUNT=52;BYDAY=TH
SUMMARY:Reminder - Black Bin
DESCRIPTION:Black Bin for 526 Deerlands Avenue, Sheffield, S5 9QH / Every Thursday fortnightly\n\nNote: any changes to collections around Christmas / New Year will not show up in your calendar, please check online or in local press for details
BEGIN:VALARM
TRIGGER:-PT6H
ACTION:DISPLAY
END:VALARM
END:VEVENT
END:VCALENDAR