BEGIN:VCALENDAR
VERSION:2.0
PRODID:-//selectedinterventions/echocal//NONSGML v1.0//EN
BEGIN:VEVENT
UID:69785e058e744fbb60479e50e164e14f
DTSTART:20260505T000000
DTEND:20260506T000000
TRANSP:TRANSPARENT
X-MICROSOFT-CDO-BUSYSTATUS:FREE
RRULE:FREQ=WEEKLY;INTERVAL=2;COUNT=52;BYDAY=TU
SUMMARY:Reminder - Black Bin
DESCRIPTION:Black Bin for 40 Spink Hall Lane, Sheffield, S36 1FL / Every Tuesday fortnightly\n\nNote: any changes to collections around Christmas / New Year will not show up in your calendar, please check online or in local press for details
BEGIN:VALARM
TRIGGER:-PT6H
ACTION:DISPLAY
END:VALARM
END:VEVENT
END:VCALENDAR