BEGIN:VCALENDAR
VERSION:2.0
PRODID:-//selectedinterventions/echocal//NONSGML v1.0//EN
BEGIN:VEVENT
UID:698f7cc0fcb15ba2b36f8f86ecad88be
DTSTART:20260520T000000
DTEND:20260521T000000
TRANSP:TRANSPARENT
X-MICROSOFT-CDO-BUSYSTATUS:FREE
RRULE:FREQ=WEEKLY;INTERVAL=4;COUNT=52;BYDAY=WE
SUMMARY:Reminder - Brown Bin
DESCRIPTION:Brown Bin for 19 Roydfield Drive, Sheffield, S20 7ND / Every 4th Wednesday\n\nNote: any changes to collections around Christmas / New Year will not show up in your calendar, please check online or in local press for details
BEGIN:VALARM
TRIGGER:-PT6H
ACTION:DISPLAY
END:VALARM
END:VEVENT
END:VCALENDAR