BEGIN:VCALENDAR
VERSION:2.0
PRODID:-//selectedinterventions/echocal//NONSGML v1.0//EN
BEGIN:VEVENT
UID:a14d04406b5eda814dbb1068343f9ae7
DTSTART:20260501T000000
DTEND:20260502T000000
TRANSP:TRANSPARENT
X-MICROSOFT-CDO-BUSYSTATUS:FREE
RRULE:FREQ=WEEKLY;INTERVAL=4;COUNT=52;BYDAY=FR
SUMMARY:Reminder - Blue Bin
DESCRIPTION:Blue Bin for 283 Fox Street, Sheffield, S3 9HE / Every 4th Friday\n\nNote: any changes to collections around Christmas / New Year will not show up in your calendar, please check online or in local press for details
BEGIN:VALARM
TRIGGER:-PT6H
ACTION:DISPLAY
END:VALARM
END:VEVENT
END:VCALENDAR