BEGIN:VCALENDAR
VERSION:2.0
PRODID:-//selectedinterventions/echocal//NONSGML v1.0//EN
BEGIN:VEVENT
UID:8a30ba0c60584ba608865d488930a560
DTSTART:20260429T000000
DTEND:20260430T000000
TRANSP:TRANSPARENT
X-MICROSOFT-CDO-BUSYSTATUS:FREE
RRULE:FREQ=WEEKLY;INTERVAL=4;COUNT=52;BYDAY=WE
SUMMARY:Reminder - Blue Bin
DESCRIPTION:Blue Bin for 374 Fox Hill Road, Sheffield, S6 1BP / Every 4th Wednesday\n\nNote: any changes to collections around Christmas / New Year will not show up in your calendar, please check online or in local press for details
BEGIN:VALARM
TRIGGER:-PT6H
ACTION:DISPLAY
END:VALARM
END:VEVENT
END:VCALENDAR