BEGIN:VCALENDAR
VERSION:2.0
PRODID:-//selectedinterventions/echocal//NONSGML v1.0//EN
BEGIN:VEVENT
UID:1c018440f1f30b7dd760d8b32c5f6876
DTSTART:20260507T000000
DTEND:20260508T000000
TRANSP:TRANSPARENT
X-MICROSOFT-CDO-BUSYSTATUS:FREE
RRULE:FREQ=WEEKLY;INTERVAL=4;COUNT=52;BYDAY=TH
SUMMARY:Reminder - Blue Bin
DESCRIPTION:Blue Bin for 153 Retford Road, Sheffield, S13 9LD / Every 4th Thursday\n\nNote: any changes to collections around Christmas / New Year will not show up in your calendar, please check online or in local press for details
BEGIN:VALARM
TRIGGER:-PT6H
ACTION:DISPLAY
END:VALARM
END:VEVENT
END:VCALENDAR