BEGIN:VCALENDAR
VERSION:2.0
PRODID:-//selectedinterventions/echocal//NONSGML v1.0//EN
BEGIN:VEVENT
UID:af70e3e236d12d6580722e241cd895e6
DTSTART:20260512T000000
DTEND:20260513T000000
TRANSP:TRANSPARENT
X-MICROSOFT-CDO-BUSYSTATUS:FREE
RRULE:FREQ=WEEKLY;INTERVAL=4;COUNT=52;BYDAY=TU
SUMMARY:Reminder - Blue Bin
DESCRIPTION:Blue Bin for 40 Spink Hall Lane, Sheffield, S36 1FL / Every 4th Tuesday\n\nNote: any changes to collections around Christmas / New Year will not show up in your calendar, please check online or in local press for details
BEGIN:VALARM
TRIGGER:-PT6H
ACTION:DISPLAY
END:VALARM
END:VEVENT
END:VCALENDAR