BEGIN:VCALENDAR
VERSION:2.0
PRODID:-//selectedinterventions/echocal//NONSGML v1.0//EN
BEGIN:VEVENT
UID:dcbd0ac51c91f8d3d54f0eb13fbb15fa
DTSTART:20260511T000000
DTEND:20260512T000000
TRANSP:TRANSPARENT
X-MICROSOFT-CDO-BUSYSTATUS:FREE
RRULE:FREQ=WEEKLY;INTERVAL=4;COUNT=52;BYDAY=MO
SUMMARY:Reminder - Blue Bin
DESCRIPTION:Blue Bin for 46 Stumperlowe Crescent Road, Sheffield, S10 3PR / Every 4th Monday\n\nNote: any changes to collections around Christmas / New Year will not show up in your calendar, please check online or in local press for details
BEGIN:VALARM
TRIGGER:-PT6H
ACTION:DISPLAY
END:VALARM
END:VEVENT
END:VCALENDAR