BEGIN:VCALENDAR
VERSION:2.0
PRODID:-//selectedinterventions/echocal//NONSGML v1.0//EN
BEGIN:VEVENT
UID:13858160809e4a299f4b72655a3a8957
DTSTART:20260513T000000
DTEND:20260514T000000
TRANSP:TRANSPARENT
X-MICROSOFT-CDO-BUSYSTATUS:FREE
RRULE:FREQ=WEEKLY;INTERVAL=2;COUNT=52;BYDAY=WE
SUMMARY:Reminder - Collect Domestic Paid Garden
DESCRIPTION:Collect Domestic Paid Garden for 7 Meadowcroft Glade, Sheffield, S20 8EN / Wednesday every other week\n\nNote: any changes to collections around Christmas / New Year will not show up in your calendar, please check online or in local press for details
BEGIN:VALARM
TRIGGER:-PT6H
ACTION:DISPLAY
END:VALARM
END:VEVENT
END:VCALENDAR